BEGIN:VCALENDAR
VERSION:2.0
PRODID:-//Hypnose f&uuml;r Reiter - ECPv6.15.20//NONSGML v1.0//EN
CALSCALE:GREGORIAN
METHOD:PUBLISH
X-WR-CALNAME:Hypnose f&uuml;r Reiter
X-ORIGINAL-URL:https://hypnosefuerreiter.de
X-WR-CALDESC:Veranstaltungen für Hypnose f&uuml;r Reiter
REFRESH-INTERVAL;VALUE=DURATION:PT1H
X-Robots-Tag:noindex
X-PUBLISHED-TTL:PT1H
BEGIN:VTIMEZONE
TZID:UTC
BEGIN:STANDARD
TZOFFSETFROM:+0000
TZOFFSETTO:+0000
TZNAME:UTC
DTSTART:20250101T000000
END:STANDARD
END:VTIMEZONE
BEGIN:VEVENT
DTSTART;VALUE=DATE:20260709
DTEND;VALUE=DATE:20260713
DTSTAMP:20260422T175413
CREATED:20260116T181227Z
LAST-MODIFIED:20260116T181227Z
UID:22552-1783555200-1783900799@hypnosefuerreiter.de
SUMMARY:High On Love Festival im Hof Oberlethe in Oldenburg bei Bremen - Masterclass!
DESCRIPTION:Antonia Wittfoth beim High On Love Festival im Hof Oberlethe (Oldenburg/Bremen)\nVom 9. bis 12. Juli 2026 ist Antonia Wittfoth beim High On Love Festival im Hof Oberlethe (bei Oldenburg\, nahe Bremen) vor Ort – und wird dort mit einer Masterclass vertreten sein. \nDas High On Love Festival ist ein mehrtägiges Festivalformat mit Workshops\, Teachings und intensiven Erfahrungen rund um Verbindung\, persönliche Weiterentwicklung und Embodiment. \nWann & Wo\n\n\nDatum: 09.–12.07.2026 \n\n\nOrt: Hof Oberlethe\, Wardenburger Str. 24\, 26203 Wardenburg (bei Oldenburg/Bremen)
URL:https://hypnosefuerreiter.de/event/high-on-love-festival-im-hof-oberlethe-in-oldenburg-bei-bremen-masterclass/
END:VEVENT
END:VCALENDAR