BEGIN:VCALENDAR
VERSION:2.0
PRODID:-//Hypnose f&uuml;r Reiter - ECPv6.15.20//NONSGML v1.0//EN
CALSCALE:GREGORIAN
METHOD:PUBLISH
X-ORIGINAL-URL:https://hypnosefuerreiter.de
X-WR-CALDESC:Veranstaltungen für Hypnose f&uuml;r Reiter
REFRESH-INTERVAL;VALUE=DURATION:PT1H
X-Robots-Tag:noindex
X-PUBLISHED-TTL:PT1H
BEGIN:VTIMEZONE
TZID:UTC
BEGIN:STANDARD
TZOFFSETFROM:+0000
TZOFFSETTO:+0000
TZNAME:UTC
DTSTART:20230101T000000
END:STANDARD
END:VTIMEZONE
BEGIN:VEVENT
DTSTART;VALUE=DATE:20260227
DTEND;VALUE=DATE:20260302
DTSTAMP:20260420T140728
CREATED:20260116T180255Z
LAST-MODIFIED:20260116T180255Z
UID:22544-1772150400-1772409599@hypnosefuerreiter.de
SUMMARY:Pferd Bodensee: Internationale Fachmesse für Pferde-Sport | Pferde-Zucht | Pferde-Haltung
DESCRIPTION:Antonia Wittfoth auf der PFERD BODENSEE 2026 in Friedrichshafen\nVom 27. Februar bis 1. März 2026 ist Antonia Wittfoth mit „Hypnose für Reiter“ auf der PFERD BODENSEE in Friedrichshafen vor Ort. \nDie PFERD BODENSEE gilt als großer Treffpunkt im Dreiländereck und verbindet Reitsport\, Austausch und Erlebniswelt: Besucherinnen und Besucher erwartet eine Mischung aus Pferdesport\, Entertainment\, Zucht und Haltung – ergänzt durch verschiedene Programmbereiche und Vorführflächen. \nTreffen & Austausch rund um mentale Stärke\nAntonia freut sich auf Gespräche mit Reiterinnen und Reitern\, Trainer:innen und Pferdemenschen\, die sich für die mentale Seite des Sports interessieren – z. B. zu Themen wie: \n\n\nNervosität im Training oder auf Turnier \n\n\nBlockaden\, Angst und innere Anspannung \n\n\nFokus\, Vertrauen und „Kopf frei“ im Sattel \n\n\nWenn ihr ebenfalls auf der PFERD BODENSEE seid: Kommt gerne ins Gespräch – manchmal reicht ein kurzer Impuls\, um den nächsten Schritt leichter zu machen.
URL:https://hypnosefuerreiter.de/event/pferd-bodensee-internationale-fachmesse-fuer-pferde-sport-pferde-zucht-pferde-haltung/
END:VEVENT
BEGIN:VEVENT
DTSTART;VALUE=DATE:20260207
DTEND;VALUE=DATE:20260210
DTSTAMP:20260420T140728
CREATED:20260116T175903Z
LAST-MODIFIED:20260116T181943Z
UID:22541-1770422400-1770681599@hypnosefuerreiter.de
SUMMARY:7.-9. Februar: Creator Days (spoga horse) Köln
DESCRIPTION:Vom 7. bis 9. Februar 2026 ist Antonia Wittfoth im Rahmen der spoga horse in Köln vor Ort und besucht die CREATOR DAYS 2026 (partnering with SehrwieViel) – das etablierte Side-Event der Messe rund um Influencer Marketing und Social Media in der Pferdebranche. \nDie CREATOR DAYS bringen Digital Creators\, Marken der Pferdesportindustrie und Professionals zusammen. Im Mittelpunkt stehen inspirierende Vorträge\, Talks und Networking – mit dem Ziel\, aktuelle Entwicklungen und neue Möglichkeiten jenseits klassischer Kommunikationskanäle sichtbar zu machen. \nWer sich für Equestrian Social Media Marketing und Equestrian Influencer Marketing interessiert\, findet hier ein innovatives Format für Weiterbildung\, Austausch und wertvolle Kontakte. \nWir freuen uns auf spannende Impulse und Begegnungen in Köln!
URL:https://hypnosefuerreiter.de/event/7-9-februar-creator-days-spoga-horse-koeln/
END:VEVENT
BEGIN:VEVENT
DTSTART;VALUE=DATE:20250730
DTEND;VALUE=DATE:20250804
DTSTAMP:20260420T140728
CREATED:20250716T083314Z
LAST-MODIFIED:20250716T083314Z
UID:22443-1753833600-1754265599@hypnosefuerreiter.de
SUMMARY:Berenberg German Polo Masters - Veranstaltung Poloturnier
DESCRIPTION:Ihr findet mich vor Ort als Aussteller und könnt mich und meine Arbeit vor Ort kennenlernen. Infos und Tickets unter: https://www.polosylt.de/  \nIch freue mich auf Euch!
URL:https://hypnosefuerreiter.de/event/berenberg-german-polo-masters-veranstaltung-poloturnier/
END:VEVENT
BEGIN:VEVENT
DTSTART;VALUE=DATE:20250529
DTEND;VALUE=DATE:20250602
DTSTAMP:20260420T140728
CREATED:20250716T082944Z
LAST-MODIFIED:20250716T082944Z
UID:22441-1748476800-1748822399@hypnosefuerreiter.de
SUMMARY:Pferd international in München
DESCRIPTION:Hier findet ihr mich mit einem  Messestand.  Dort könnt ihr mich und meine Arbeit kennenlernen!
URL:https://hypnosefuerreiter.de/event/pferd-international-in-muenchen/
END:VEVENT
BEGIN:VEVENT
DTSTART;VALUE=DATE:20250306
DTEND;VALUE=DATE:20250313
DTSTAMP:20260420T140728
CREATED:20241025T182333Z
LAST-MODIFIED:20241025T185644Z
UID:22343-1741219200-1741823999@hypnosefuerreiter.de
SUMMARY:Equitana 2025 (Halle 6 Stand G 51)
DESCRIPTION:Triff mich auf der „Equitana“ in Essen vom 6. bis 12. März 2025 \, Halle 6 Stand G 51
URL:https://hypnosefuerreiter.de/event/equitana-2025/
END:VEVENT
BEGIN:VEVENT
DTSTART;VALUE=DATE:20250103
DTEND;VALUE=DATE:20250105
DTSTAMP:20260420T140728
CREATED:20241109T125911Z
LAST-MODIFIED:20241109T125911Z
UID:22377-1735862400-1736035199@hypnosefuerreiter.de
SUMMARY:Triff mich bei "Röckeners At Night" (Niedersachenhalle)
DESCRIPTION:3./4. Januar 2025: Triff mich bei „Röckeners At Night“ \, Verden Niedersachsenhalle
URL:https://hypnosefuerreiter.de/event/triff-mich-bei-roeckeners-at-night-niedersachenhalle/
END:VEVENT
BEGIN:VEVENT
DTSTART;VALUE=DATE:20241205
DTEND;VALUE=DATE:20241209
DTSTAMP:20260420T140728
CREATED:20241025T181916Z
LAST-MODIFIED:20241025T185720Z
UID:22333-1733356800-1733702399@hypnosefuerreiter.de
SUMMARY:Passion Pferd (Halle 20\, Stand B01)
DESCRIPTION:Triff mich auf der „Passion Pferd“ in Hannover vom 5. bis 8. Dezember 2024\, Halle 20\, Stand B01
URL:https://hypnosefuerreiter.de/event/passion-pferd/
END:VEVENT
END:VCALENDAR