BEGIN:VCALENDAR
VERSION:2.0
PRODID:-//Hypnose f&uuml;r Reiter - ECPv6.15.20//NONSGML v1.0//EN
CALSCALE:GREGORIAN
METHOD:PUBLISH
X-WR-CALNAME:Hypnose f&uuml;r Reiter
X-ORIGINAL-URL:https://hypnosefuerreiter.de
X-WR-CALDESC:Veranstaltungen für Hypnose f&uuml;r Reiter
REFRESH-INTERVAL;VALUE=DURATION:PT1H
X-Robots-Tag:noindex
X-PUBLISHED-TTL:PT1H
BEGIN:VTIMEZONE
TZID:UTC
BEGIN:STANDARD
TZOFFSETFROM:+0000
TZOFFSETTO:+0000
TZNAME:UTC
DTSTART:20250101T000000
END:STANDARD
END:VTIMEZONE
BEGIN:VEVENT
DTSTART;VALUE=DATE:20261010
DTEND;VALUE=DATE:20261019
DTSTAMP:20260424T094124
CREATED:20260116T181650Z
LAST-MODIFIED:20260116T181650Z
UID:22556-1791590400-1792367999@hypnosefuerreiter.de
SUMMARY:infa | Erlebnis- und Einkaufsmesse in Hannover 2026
DESCRIPTION:Antonia Wittfoth auf der infa Hannover (10.–18. Oktober 2026)\nAntonia Wittfoth ist vom 10. bis 18. Oktober 2026 auf der infa Hannover auf dem Messegelände Hannover anzutreffen. Die infa gilt als Deutschlands große Erlebnis- und Einkaufsmesse und bietet einen vielseitigen Mix aus Themenwelten\, Unterhaltung und Workshops. \nTermin & Ort\n\n\nDatum: 10.–18.10.2026 \n\n\nOrt: Messegelände Hannover\, 30521 Hannover \n\n\nÖffnungszeiten: täglich 10:00–18:00 Uhr \n\n\nWenn du Antonia vor Ort treffen und dich rund um mentale Stärke\, Fokus und innere Ruhe im Reitsport austauschen möchtest\, lohnt sich ein Besuch auf der infa in Hannover.
URL:https://hypnosefuerreiter.de/event/infa-erlebnis-und-einkaufsmesse-in-hannover-2026/
END:VEVENT
END:VCALENDAR